BEGIN:VCALENDAR
VERSION:2.0
PRODID:spatie/icalendar-generator
DESCRIPTION:Events from Clare Scout Centre
X-WR-CALDESC:Events from Clare Scout Centre
REFRESH-INTERVAL;VALUE=DURATION:PT1440M
X-PUBLISHED-TTL:PT1440M
BEGIN:VTIMEZONE
TZID:Etc/GMT+0
BEGIN:STANDARD
DTSTART:20250722T090000Z
TZOFFSETFROM:+0000
TZOFFSETTO:+0000
END:STANDARD
END:VTIMEZONE
BEGIN:VTIMEZONE
TZID:UTC
BEGIN:STANDARD
DTSTART:20250728T085057Z
TZOFFSETFROM:+0000
TZOFFSETTO:+0000
END:STANDARD
END:VTIMEZONE
BEGIN:VEVENT
UID:206-177
DTSTAMP:20260424T085057Z
SUMMARY:Clare County Cub Challenge
LOCATION:
ORGANIZER;CN=Kees Duson:MAILTO:keesduson@hotmail.com
DTSTART;TZID=Etc/GMT+0:20260418T090000
DTEND;TZID=Etc/GMT+0:20260419T200000
X-ALT-DESC;FMTTYPE=TEXT/HTML:
CATEGORIES:Space Available
URL;VALUE=URI:https://clarescoutcentre.ie/?page_id=28&#038;mc_id=206&#038;v
 cal=206
METHOD:PUBLISH
END:VEVENT
END:VCALENDAR